BEGIN:VCALENDAR
VERSION:2.0
PRODID:https://github.com/derhansen/sf_event_mgt
METHOD:PUBLISH
BEGIN:VEVENT
UID:287-3360@www.masterflexgroup.com
CLASS: PUBLIC
SUMMARY:vocatium Gelsenkirchen 2026
DESCRIPTION:Die Vocatium Gelsenkirchen ist eine Präsenzmesse für Schüler*in
 nen und informiert rund um Fragen von Ausbildung, Studium, Praktikum und me
 hr. Sie versteht sich als Forum für Berufswahl und Bildungswege: Ausbildung
  und/oder (duales) Studium sowie für freiwilliges Engagement. \n\nZur Messe
LOCATION:Wissenschaftspark Gelsenkirchen
DTSTAMP:20260330T115610Z
DTSTART:20260421T063000Z
DTEND:20260422T124500Z
END:VEVENT
END:VCALENDAR