BEGIN:VCALENDAR
VERSION:2.0
PRODID:https://github.com/derhansen/sf_event_mgt
METHOD:PUBLISH
BEGIN:VEVENT
UID:161-3360@www.masterflexgroup.com
CLASS: PUBLIC
SUMMARY:MSV Internationale Industriemesse
DESCRIPTION:Masterflex Česko s.r.o., die Vertriebsniederlassung der Masterf
 lex Group für Tschechien und die Slowakei, ist erneut Aussteller auf der MS
 V. \n\nDie Mehrheit der Besucher sind Fachleute. Nahezu 80 % der Besucher h
 aben Einfluss auf Unternehmensinvestitionen, und ein Drittel gehört der obe
 rsten Führungsebene ihres Unternehmens an.\n\nAlle wichtigen Bereiche des M
 aschinenbaus und der Elektroindustrie sind vertreten, wobei der Schwerpunkt
  auf der Bearbeitung und Umformung liegt.\n\nDer Schwerpunkt der MSV liegt 
 in diesem Jahr auf Industrie 4.0 und Digitaler Fabrik, also der Digitalisie
 rung in der Produktion, einem der wichtigsten Trends im Innovationsprozess.
  Weitere Schwerpunktthemen sind die Kreislaufwirtschaft - der Umgang mit ma
 teriellen Ressourcen. \n\n\n\n
LOCATION:Brno Exhibition Center
DTSTAMP:20240807T052721Z
DTSTART:20241008T070000Z
DTEND:20241011T150000Z
END:VEVENT
END:VCALENDAR