BEGIN:VCALENDAR
VERSION:2.0
PRODID:https://github.com/derhansen/sf_event_mgt
METHOD:PUBLISH
BEGIN:VEVENT
UID:111-166@www.masterflexgroup.com
CLASS: PUBLIC
SUMMARY:Annual General Meeting Masterflex SE
DESCRIPTION:
LOCATION:Masterflex SE, Gelsenkirchen
DTSTAMP:20240522T134355Z
DTSTART:20240704T220000Z
DTEND:20240704T220000Z
END:VEVENT
END:VCALENDAR