BEGIN:VCALENDAR
VERSION:2.0
PRODID:https://github.com/derhansen/sf_event_mgt
METHOD:PUBLISH
BEGIN:VEVENT
UID:67-3360@www.masterflexgroup.com
CLASS: PUBLIC
SUMMARY:MD&M West 2026
DESCRIPTION:From 03 to 05 February 2026, the Anaheim Convention Center West
  will once again open its doors to global visitors from the medical technol
 ogy sector.\n\nNovoplast Schlauchtechnik and Fleima-Plastic will be present
 ing together medical technology products and solutions at the VDMA joint st
 and at booth no. 3158 in Anaheim.\n\nWith over 1600 exhibitors and 14,000 t
 rade visitors, MD&M West (Medical Design & Manufacturing) in Anaheim, Calif
 ornia, is one of the largest international marketplaces for design and manu
 facturing in medical technology. Every year, decision-makers from leading m
 edical technology companies meet at the trade fair.\n\nFind more informatio
 n and discounted tickets here. 
LOCATION:Anaheim Convention Center
DTSTAMP:20251215T102045Z
DTSTART:20260203T070000Z
DTEND:20260205T170000Z
END:VEVENT
END:VCALENDAR