BEGIN:VCALENDAR
VERSION:2.0
PRODID:https://github.com/derhansen/sf_event_mgt
METHOD:PUBLISH
BEGIN:VEVENT
UID:128-166@www.masterflexgroup.com
CLASS: PUBLIC
SUMMARY:Metzler Small Cap Days
DESCRIPTION:
LOCATION:Frankfurt/M.
DTSTAMP:20250212T082028Z
DTSTART:20240421T220000Z
DTEND:20240424T215500Z
END:VEVENT
END:VCALENDAR