BEGIN:VCALENDAR
VERSION:2.0
PRODID:https://github.com/derhansen/sf_event_mgt
METHOD:PUBLISH
BEGIN:VEVENT
UID:99-166@www.masterflexgroup.com
CLASS: PUBLIC
SUMMARY:Quarterly Statement 3/2023
DESCRIPTION:
LOCATION:Masterflex SE, Gelsenkirchen
DTSTAMP:20230522T061816Z
DTSTART:20231107T230000Z
DTEND:20231107T230000Z
END:VEVENT
END:VCALENDAR