BEGIN:VCALENDAR
VERSION:2.0
PRODID:https://github.com/derhansen/sf_event_mgt
METHOD:PUBLISH
BEGIN:VEVENT
UID:25-166@www.masterflexgroup.com
CLASS: PUBLIC
SUMMARY:Release 3/2020
DESCRIPTION:
LOCATION:Masterflex SE, Gelsenkirchen
DTSTAMP:20201203T092131Z
DTSTART:20201110T230000Z
DTEND:20201110T230000Z
END:VEVENT
END:VCALENDAR